BEGIN:VCALENDAR
VERSION:2.0
PRODID:-//Incroyables Comestibles Val de Drôme - ECPv6.2.8.1//NONSGML v1.0//EN
CALSCALE:GREGORIAN
METHOD:PUBLISH
X-ORIGINAL-URL:http://crest.lesincroyablescomestibles.fr
X-WR-CALDESC:évènements pour Incroyables Comestibles Val de Drôme
REFRESH-INTERVAL;VALUE=DURATION:PT1H
X-Robots-Tag:noindex
X-PUBLISHED-TTL:PT1H
BEGIN:VTIMEZONE
TZID:Europe/Paris
BEGIN:DAYLIGHT
TZOFFSETFROM:+0100
TZOFFSETTO:+0200
TZNAME:CEST
DTSTART:20170326T010000
END:DAYLIGHT
BEGIN:STANDARD
TZOFFSETFROM:+0200
TZOFFSETTO:+0100
TZNAME:CET
DTSTART:20171029T010000
END:STANDARD
END:VTIMEZONE
BEGIN:VEVENT
DTSTART;TZID=Europe/Paris:20170918T203000
DTEND;TZID=Europe/Paris:20170918T230000
DTSTAMP:20260424T121122
CREATED:20170901T172139Z
LAST-MODIFIED:20170901T172140Z
UID:98-1505766600-1505775600@crest.lesincroyablescomestibles.fr
SUMMARY:Projection-Débat : L'éveil de la Permaculture
DESCRIPTION:Dans le cadre de la programmation de la Fête des Possibles\, L’EDEN Crest & les Incroyables Comestibles Val de Drôme ont la joie de vous recevoir le lundi 18 septembre 2017 à l’EDEN Crest\, pour la projection du film L’Éveil de la Permaculture – le Film (d’Adrien Bellay)\, Destiny Film Distribution. \nLa projection sera suivie d’un échange autour des différentes approches permacoles et de la question de la transmission dans la permaculture. Cette rencontre sera animée par des professionnels et acteurs locaux en permaculture. \nSynopsis du film : la permaculture laisse entrevoir une lueur d’espoir avec ses solutions écologiquement soutenables\, économiquement viables et socialement équitables. Accessible à tous\, elle peut être mise en œuvre partout… Aujourd’hui\, des hommes et des femmes se rencontrent et expérimentent cette alternative crédible. La transition “permacole” est en marche !
URL:http://crest.lesincroyablescomestibles.fr/event/projection-debat-leveil-de-permaculture/
LOCATION:Cinéma L’EDEN\, 2\, quai Bérangier de la Blache\, Crest\, 26400\, France
CATEGORIES:Projection-Débat
ATTACH;FMTTYPE=image/jpeg:http://crest.lesincroyablescomestibles.fr/wp-content/uploads/sites/100/2017/09/bandeau_LEVEIL_CRITIQUES_900x506-900x506.jpg
ORGANIZER;CN="Incroyables Comestibles Val de Dr%C3%B4me":MAILTO:daudon.annesophie@gmail.com
END:VEVENT
END:VCALENDAR